BEGIN:VCALENDAR
VERSION:2.0
PRODID:-//District Writers&#039; Academy - ECPv6.15.20//NONSGML v1.0//EN
CALSCALE:GREGORIAN
METHOD:PUBLISH
X-ORIGINAL-URL:https://districtwritersacademy.com
X-WR-CALDESC:Events for District Writers&#039; Academy
REFRESH-INTERVAL;VALUE=DURATION:PT1H
X-Robots-Tag:noindex
X-PUBLISHED-TTL:PT1H
BEGIN:VTIMEZONE
TZID:America/New_York
BEGIN:DAYLIGHT
TZOFFSETFROM:-0500
TZOFFSETTO:-0400
TZNAME:EDT
DTSTART:20210314T070000
END:DAYLIGHT
BEGIN:STANDARD
TZOFFSETFROM:-0400
TZOFFSETTO:-0500
TZNAME:EST
DTSTART:20211107T060000
END:STANDARD
BEGIN:DAYLIGHT
TZOFFSETFROM:-0500
TZOFFSETTO:-0400
TZNAME:EDT
DTSTART:20220313T070000
END:DAYLIGHT
BEGIN:STANDARD
TZOFFSETFROM:-0400
TZOFFSETTO:-0500
TZNAME:EST
DTSTART:20221106T060000
END:STANDARD
BEGIN:DAYLIGHT
TZOFFSETFROM:-0500
TZOFFSETTO:-0400
TZNAME:EDT
DTSTART:20230312T070000
END:DAYLIGHT
BEGIN:STANDARD
TZOFFSETFROM:-0400
TZOFFSETTO:-0500
TZNAME:EST
DTSTART:20231105T060000
END:STANDARD
BEGIN:DAYLIGHT
TZOFFSETFROM:-0500
TZOFFSETTO:-0400
TZNAME:EDT
DTSTART:20240310T070000
END:DAYLIGHT
BEGIN:STANDARD
TZOFFSETFROM:-0400
TZOFFSETTO:-0500
TZNAME:EST
DTSTART:20241103T060000
END:STANDARD
END:VTIMEZONE
BEGIN:VEVENT
DTSTART;TZID=America/New_York:20230901T140000
DTEND;TZID=America/New_York:20230901T170000
DTSTAMP:20260421T134958
CREATED:20221215T035301Z
LAST-MODIFIED:20230226T023708Z
UID:10000143-1693576800-1693587600@districtwritersacademy.com
SUMMARY:Fundamentals of Academic Writing Summer Bootcamp (Sr. Level-Rising 10-12 Graders) Session II
DESCRIPTION:$520\nSession II: August 28 – September 1 — 2 p.m.-5 p.m. \nLEARN MORE
URL:https://districtwritersacademy.com/course/fundamentals-of-academic-writing-summer-bootcamp-sr-level-rising-10-12-graders-session-ii/2023-09-01/
LOCATION:Zoom
CATEGORIES:summer camps
ATTACH;FMTTYPE=image/jpeg:https://districtwritersacademy.com/wp-content/uploads/2021/04/summercamps.jpg
ORGANIZER;CN="Suzanne Zweizig":MAILTO:info@districtwritersacademy.com
END:VEVENT
BEGIN:VEVENT
DTSTART;TZID=America/New_York:20230831T140000
DTEND;TZID=America/New_York:20230831T170000
DTSTAMP:20260421T134958
CREATED:20221215T035301Z
LAST-MODIFIED:20230226T023708Z
UID:10000142-1693490400-1693501200@districtwritersacademy.com
SUMMARY:Fundamentals of Academic Writing Summer Bootcamp (Sr. Level-Rising 10-12 Graders) Session II
DESCRIPTION:$520\nSession II: August 28 – September 1 — 2 p.m.-5 p.m. \nLEARN MORE
URL:https://districtwritersacademy.com/course/fundamentals-of-academic-writing-summer-bootcamp-sr-level-rising-10-12-graders-session-ii/2023-08-31/
LOCATION:Zoom
CATEGORIES:summer camps
ATTACH;FMTTYPE=image/jpeg:https://districtwritersacademy.com/wp-content/uploads/2021/04/summercamps.jpg
ORGANIZER;CN="Suzanne Zweizig":MAILTO:info@districtwritersacademy.com
END:VEVENT
BEGIN:VEVENT
DTSTART;TZID=America/New_York:20230831T100000
DTEND;TZID=America/New_York:20230831T120000
DTSTAMP:20260421T134958
CREATED:20221215T034217Z
LAST-MODIFIED:20230721T013348Z
UID:10000167-1693476000-1693483200@districtwritersacademy.com
SUMMARY:College Essay Summer Bootcamp Session II
DESCRIPTION:$360\nSession II: August 28 – 31  10:00 a.m. – 12:00 p.m. \nLEARN MORE
URL:https://districtwritersacademy.com/course/college-essay-summer-bootcamp-session-ii/2023-08-31/
LOCATION:Zoom
CATEGORIES:summer camps
ATTACH;FMTTYPE=image/jpeg:https://districtwritersacademy.com/wp-content/uploads/2021/04/summercamps.jpg
ORGANIZER;CN="Suzanne Zweizig":MAILTO:info@districtwritersacademy.com
END:VEVENT
BEGIN:VEVENT
DTSTART;TZID=America/New_York:20230830T140000
DTEND;TZID=America/New_York:20230830T170000
DTSTAMP:20260421T134958
CREATED:20221215T035301Z
LAST-MODIFIED:20230226T023708Z
UID:10000141-1693404000-1693414800@districtwritersacademy.com
SUMMARY:Fundamentals of Academic Writing Summer Bootcamp (Sr. Level-Rising 10-12 Graders) Session II
DESCRIPTION:$520\nSession II: August 28 – September 1 — 2 p.m.-5 p.m. \nLEARN MORE
URL:https://districtwritersacademy.com/course/fundamentals-of-academic-writing-summer-bootcamp-sr-level-rising-10-12-graders-session-ii/2023-08-30/
LOCATION:Zoom
CATEGORIES:summer camps
ATTACH;FMTTYPE=image/jpeg:https://districtwritersacademy.com/wp-content/uploads/2021/04/summercamps.jpg
ORGANIZER;CN="Suzanne Zweizig":MAILTO:info@districtwritersacademy.com
END:VEVENT
BEGIN:VEVENT
DTSTART;TZID=America/New_York:20230830T100000
DTEND;TZID=America/New_York:20230830T120000
DTSTAMP:20260421T134958
CREATED:20221215T034217Z
LAST-MODIFIED:20230721T013348Z
UID:10000166-1693389600-1693396800@districtwritersacademy.com
SUMMARY:College Essay Summer Bootcamp Session II
DESCRIPTION:$360\nSession II: August 28 – 31  10:00 a.m. – 12:00 p.m. \nLEARN MORE
URL:https://districtwritersacademy.com/course/college-essay-summer-bootcamp-session-ii/2023-08-30/
LOCATION:Zoom
CATEGORIES:summer camps
ATTACH;FMTTYPE=image/jpeg:https://districtwritersacademy.com/wp-content/uploads/2021/04/summercamps.jpg
ORGANIZER;CN="Suzanne Zweizig":MAILTO:info@districtwritersacademy.com
END:VEVENT
BEGIN:VEVENT
DTSTART;TZID=America/New_York:20230829T140000
DTEND;TZID=America/New_York:20230829T170000
DTSTAMP:20260421T134958
CREATED:20221215T035301Z
LAST-MODIFIED:20230226T023708Z
UID:10000140-1693317600-1693328400@districtwritersacademy.com
SUMMARY:Fundamentals of Academic Writing Summer Bootcamp (Sr. Level-Rising 10-12 Graders) Session II
DESCRIPTION:$520\nSession II: August 28 – September 1 — 2 p.m.-5 p.m. \nLEARN MORE
URL:https://districtwritersacademy.com/course/fundamentals-of-academic-writing-summer-bootcamp-sr-level-rising-10-12-graders-session-ii/2023-08-29/
LOCATION:Zoom
CATEGORIES:summer camps
ATTACH;FMTTYPE=image/jpeg:https://districtwritersacademy.com/wp-content/uploads/2021/04/summercamps.jpg
ORGANIZER;CN="Suzanne Zweizig":MAILTO:info@districtwritersacademy.com
END:VEVENT
BEGIN:VEVENT
DTSTART;TZID=America/New_York:20230829T100000
DTEND;TZID=America/New_York:20230829T120000
DTSTAMP:20260421T134958
CREATED:20221215T034217Z
LAST-MODIFIED:20230721T013348Z
UID:10000165-1693303200-1693310400@districtwritersacademy.com
SUMMARY:College Essay Summer Bootcamp Session II
DESCRIPTION:$360\nSession II: August 28 – 31  10:00 a.m. – 12:00 p.m. \nLEARN MORE
URL:https://districtwritersacademy.com/course/college-essay-summer-bootcamp-session-ii/2023-08-29/
LOCATION:Zoom
CATEGORIES:summer camps
ATTACH;FMTTYPE=image/jpeg:https://districtwritersacademy.com/wp-content/uploads/2021/04/summercamps.jpg
ORGANIZER;CN="Suzanne Zweizig":MAILTO:info@districtwritersacademy.com
END:VEVENT
BEGIN:VEVENT
DTSTART;TZID=America/New_York:20230828T140000
DTEND;TZID=America/New_York:20230828T170000
DTSTAMP:20260421T134958
CREATED:20221215T035301Z
LAST-MODIFIED:20230226T023708Z
UID:10000139-1693231200-1693242000@districtwritersacademy.com
SUMMARY:Fundamentals of Academic Writing Summer Bootcamp (Sr. Level-Rising 10-12 Graders) Session II
DESCRIPTION:$520\nSession II: August 28 – September 1 — 2 p.m.-5 p.m. \nLEARN MORE
URL:https://districtwritersacademy.com/course/fundamentals-of-academic-writing-summer-bootcamp-sr-level-rising-10-12-graders-session-ii/2023-08-28/
LOCATION:Zoom
CATEGORIES:summer camps
ATTACH;FMTTYPE=image/jpeg:https://districtwritersacademy.com/wp-content/uploads/2021/04/summercamps.jpg
ORGANIZER;CN="Suzanne Zweizig":MAILTO:info@districtwritersacademy.com
END:VEVENT
BEGIN:VEVENT
DTSTART;TZID=America/New_York:20230828T100000
DTEND;TZID=America/New_York:20230828T120000
DTSTAMP:20260421T134958
CREATED:20221215T034217Z
LAST-MODIFIED:20230721T013348Z
UID:10000164-1693216800-1693224000@districtwritersacademy.com
SUMMARY:College Essay Summer Bootcamp Session II
DESCRIPTION:$360\nSession II: August 28 – 31  10:00 a.m. – 12:00 p.m. \nLEARN MORE
URL:https://districtwritersacademy.com/course/college-essay-summer-bootcamp-session-ii/2023-08-28/
LOCATION:Zoom
CATEGORIES:summer camps
ATTACH;FMTTYPE=image/jpeg:https://districtwritersacademy.com/wp-content/uploads/2021/04/summercamps.jpg
ORGANIZER;CN="Suzanne Zweizig":MAILTO:info@districtwritersacademy.com
END:VEVENT
BEGIN:VEVENT
DTSTART;TZID=America/New_York:20230728T130000
DTEND;TZID=America/New_York:20230728T150000
DTSTAMP:20260421T134958
CREATED:20221215T033836Z
LAST-MODIFIED:20230226T023428Z
UID:10000128-1690549200-1690556400@districtwritersacademy.com
SUMMARY:College Essay Summer Bootcamp Session I
DESCRIPTION:$360\nSession I- July 24 – 28.  1:00 p.m.- 3:00 p.m.\n \nLEARN MORE
URL:https://districtwritersacademy.com/course/college-essay-summer-bootcamp-session-i/2023-07-28/
LOCATION:Zoom
ATTACH;FMTTYPE=image/jpeg:https://districtwritersacademy.com/wp-content/uploads/2021/04/summercamps.jpg
ORGANIZER;CN="Suzanne Zweizig":MAILTO:info@districtwritersacademy.com
END:VEVENT
BEGIN:VEVENT
DTSTART;TZID=America/New_York:20230727T130000
DTEND;TZID=America/New_York:20230727T150000
DTSTAMP:20260421T134958
CREATED:20221215T033836Z
LAST-MODIFIED:20230226T023428Z
UID:10000127-1690462800-1690470000@districtwritersacademy.com
SUMMARY:College Essay Summer Bootcamp Session I
DESCRIPTION:$360\nSession I- July 24 – 28.  1:00 p.m.- 3:00 p.m.\n \nLEARN MORE
URL:https://districtwritersacademy.com/course/college-essay-summer-bootcamp-session-i/2023-07-27/
LOCATION:Zoom
ATTACH;FMTTYPE=image/jpeg:https://districtwritersacademy.com/wp-content/uploads/2021/04/summercamps.jpg
ORGANIZER;CN="Suzanne Zweizig":MAILTO:info@districtwritersacademy.com
END:VEVENT
BEGIN:VEVENT
DTSTART;TZID=America/New_York:20230726T130000
DTEND;TZID=America/New_York:20230726T150000
DTSTAMP:20260421T134958
CREATED:20221215T033836Z
LAST-MODIFIED:20230226T023428Z
UID:10000126-1690376400-1690383600@districtwritersacademy.com
SUMMARY:College Essay Summer Bootcamp Session I
DESCRIPTION:$360\nSession I- July 24 – 28.  1:00 p.m.- 3:00 p.m.\n \nLEARN MORE
URL:https://districtwritersacademy.com/course/college-essay-summer-bootcamp-session-i/2023-07-26/
LOCATION:Zoom
ATTACH;FMTTYPE=image/jpeg:https://districtwritersacademy.com/wp-content/uploads/2021/04/summercamps.jpg
ORGANIZER;CN="Suzanne Zweizig":MAILTO:info@districtwritersacademy.com
END:VEVENT
BEGIN:VEVENT
DTSTART;TZID=America/New_York:20230725T130000
DTEND;TZID=America/New_York:20230725T150000
DTSTAMP:20260421T134958
CREATED:20221215T033836Z
LAST-MODIFIED:20230226T023428Z
UID:10000125-1690290000-1690297200@districtwritersacademy.com
SUMMARY:College Essay Summer Bootcamp Session I
DESCRIPTION:$360\nSession I- July 24 – 28.  1:00 p.m.- 3:00 p.m.\n \nLEARN MORE
URL:https://districtwritersacademy.com/course/college-essay-summer-bootcamp-session-i/2023-07-25/
LOCATION:Zoom
ATTACH;FMTTYPE=image/jpeg:https://districtwritersacademy.com/wp-content/uploads/2021/04/summercamps.jpg
ORGANIZER;CN="Suzanne Zweizig":MAILTO:info@districtwritersacademy.com
END:VEVENT
BEGIN:VEVENT
DTSTART;TZID=America/New_York:20230724T130000
DTEND;TZID=America/New_York:20230724T150000
DTSTAMP:20260421T134958
CREATED:20221215T033836Z
LAST-MODIFIED:20230226T023428Z
UID:10000124-1690203600-1690210800@districtwritersacademy.com
SUMMARY:College Essay Summer Bootcamp Session I
DESCRIPTION:$360\nSession I- July 24 – 28.  1:00 p.m.- 3:00 p.m.\n \nLEARN MORE
URL:https://districtwritersacademy.com/course/college-essay-summer-bootcamp-session-i/2023-07-24/
LOCATION:Zoom
ATTACH;FMTTYPE=image/jpeg:https://districtwritersacademy.com/wp-content/uploads/2021/04/summercamps.jpg
ORGANIZER;CN="Suzanne Zweizig":MAILTO:info@districtwritersacademy.com
END:VEVENT
BEGIN:VEVENT
DTSTART;TZID=America/New_York:20230714T090000
DTEND;TZID=America/New_York:20230714T120000
DTSTAMP:20260421T134958
CREATED:20221215T040857Z
LAST-MODIFIED:20230226T022528Z
UID:10000159-1689325200-1689336000@districtwritersacademy.com
SUMMARY:Sr. Intro to Creative Writing Camp Level I (Rising 10-12 Graders)
DESCRIPTION:$520\nJuly 10 – July 14 — 9 a.m.-12 p.m. \nLEARN MORE
URL:https://districtwritersacademy.com/course/sr-intro-to-creative-writing-camp-level-i-rising-10-12-graders/2023-07-14/
LOCATION:Hera Hub\, 5028 Wisconsin Avenue NW\, Suite #100\, Washington\, DC\, 20016\, United States
CATEGORIES:summer camps
ATTACH;FMTTYPE=image/jpeg:https://districtwritersacademy.com/wp-content/uploads/2021/04/summercamps.jpg
ORGANIZER;CN="Suzanne Zweizig":MAILTO:info@districtwritersacademy.com
END:VEVENT
BEGIN:VEVENT
DTSTART;TZID=America/New_York:20230713T090000
DTEND;TZID=America/New_York:20230713T120000
DTSTAMP:20260421T134958
CREATED:20221215T040857Z
LAST-MODIFIED:20230226T022528Z
UID:10000158-1689238800-1689249600@districtwritersacademy.com
SUMMARY:Sr. Intro to Creative Writing Camp Level I (Rising 10-12 Graders)
DESCRIPTION:$520\nJuly 10 – July 14 — 9 a.m.-12 p.m. \nLEARN MORE
URL:https://districtwritersacademy.com/course/sr-intro-to-creative-writing-camp-level-i-rising-10-12-graders/2023-07-13/
LOCATION:Hera Hub\, 5028 Wisconsin Avenue NW\, Suite #100\, Washington\, DC\, 20016\, United States
CATEGORIES:summer camps
ATTACH;FMTTYPE=image/jpeg:https://districtwritersacademy.com/wp-content/uploads/2021/04/summercamps.jpg
ORGANIZER;CN="Suzanne Zweizig":MAILTO:info@districtwritersacademy.com
END:VEVENT
BEGIN:VEVENT
DTSTART;TZID=America/New_York:20230712T090000
DTEND;TZID=America/New_York:20230712T120000
DTSTAMP:20260421T134958
CREATED:20221215T040857Z
LAST-MODIFIED:20230226T022528Z
UID:10000157-1689152400-1689163200@districtwritersacademy.com
SUMMARY:Sr. Intro to Creative Writing Camp Level I (Rising 10-12 Graders)
DESCRIPTION:$520\nJuly 10 – July 14 — 9 a.m.-12 p.m. \nLEARN MORE
URL:https://districtwritersacademy.com/course/sr-intro-to-creative-writing-camp-level-i-rising-10-12-graders/2023-07-12/
LOCATION:Hera Hub\, 5028 Wisconsin Avenue NW\, Suite #100\, Washington\, DC\, 20016\, United States
CATEGORIES:summer camps
ATTACH;FMTTYPE=image/jpeg:https://districtwritersacademy.com/wp-content/uploads/2021/04/summercamps.jpg
ORGANIZER;CN="Suzanne Zweizig":MAILTO:info@districtwritersacademy.com
END:VEVENT
BEGIN:VEVENT
DTSTART;TZID=America/New_York:20230711T090000
DTEND;TZID=America/New_York:20230711T120000
DTSTAMP:20260421T134958
CREATED:20221215T040857Z
LAST-MODIFIED:20230226T022528Z
UID:10000156-1689066000-1689076800@districtwritersacademy.com
SUMMARY:Sr. Intro to Creative Writing Camp Level I (Rising 10-12 Graders)
DESCRIPTION:$520\nJuly 10 – July 14 — 9 a.m.-12 p.m. \nLEARN MORE
URL:https://districtwritersacademy.com/course/sr-intro-to-creative-writing-camp-level-i-rising-10-12-graders/2023-07-11/
LOCATION:Hera Hub\, 5028 Wisconsin Avenue NW\, Suite #100\, Washington\, DC\, 20016\, United States
CATEGORIES:summer camps
ATTACH;FMTTYPE=image/jpeg:https://districtwritersacademy.com/wp-content/uploads/2021/04/summercamps.jpg
ORGANIZER;CN="Suzanne Zweizig":MAILTO:info@districtwritersacademy.com
END:VEVENT
BEGIN:VEVENT
DTSTART;TZID=America/New_York:20230710T090000
DTEND;TZID=America/New_York:20230710T120000
DTSTAMP:20260421T134958
CREATED:20221215T040857Z
LAST-MODIFIED:20230226T022528Z
UID:10000155-1688979600-1688990400@districtwritersacademy.com
SUMMARY:Sr. Intro to Creative Writing Camp Level I (Rising 10-12 Graders)
DESCRIPTION:$520\nJuly 10 – July 14 — 9 a.m.-12 p.m. \nLEARN MORE
URL:https://districtwritersacademy.com/course/sr-intro-to-creative-writing-camp-level-i-rising-10-12-graders/2023-07-10/
LOCATION:Hera Hub\, 5028 Wisconsin Avenue NW\, Suite #100\, Washington\, DC\, 20016\, United States
CATEGORIES:summer camps
ATTACH;FMTTYPE=image/jpeg:https://districtwritersacademy.com/wp-content/uploads/2021/04/summercamps.jpg
ORGANIZER;CN="Suzanne Zweizig":MAILTO:info@districtwritersacademy.com
END:VEVENT
BEGIN:VEVENT
DTSTART;TZID=America/New_York:20230630T090000
DTEND;TZID=America/New_York:20230630T120000
DTSTAMP:20260421T134958
CREATED:20221215T035732Z
LAST-MODIFIED:20230226T022352Z
UID:10000148-1688115600-1688126400@districtwritersacademy.com
SUMMARY:Jr. Story Writers Camp (Rising 7-9 Graders)
DESCRIPTION:$520\nJune 26- June 30 — 9 a.m.-12 p.m. \nLEARN MORE
URL:https://districtwritersacademy.com/course/jr-story-writers-camp-rising-7-9-graders/2023-06-30/
LOCATION:Hera Hub\, 5028 Wisconsin Avenue NW\, Suite #100\, Washington\, DC\, 20016\, United States
CATEGORIES:summer camps
ATTACH;FMTTYPE=image/jpeg:https://districtwritersacademy.com/wp-content/uploads/teenyouth2.jpg
ORGANIZER;CN="Suzanne Zweizig":MAILTO:info@districtwritersacademy.com
END:VEVENT
BEGIN:VEVENT
DTSTART;TZID=America/New_York:20230629T090000
DTEND;TZID=America/New_York:20230629T120000
DTSTAMP:20260421T134958
CREATED:20221215T035732Z
LAST-MODIFIED:20230226T022352Z
UID:10000147-1688029200-1688040000@districtwritersacademy.com
SUMMARY:Jr. Story Writers Camp (Rising 7-9 Graders)
DESCRIPTION:$520\nJune 26- June 30 — 9 a.m.-12 p.m. \nLEARN MORE
URL:https://districtwritersacademy.com/course/jr-story-writers-camp-rising-7-9-graders/2023-06-29/
LOCATION:Hera Hub\, 5028 Wisconsin Avenue NW\, Suite #100\, Washington\, DC\, 20016\, United States
CATEGORIES:summer camps
ATTACH;FMTTYPE=image/jpeg:https://districtwritersacademy.com/wp-content/uploads/teenyouth2.jpg
ORGANIZER;CN="Suzanne Zweizig":MAILTO:info@districtwritersacademy.com
END:VEVENT
BEGIN:VEVENT
DTSTART;TZID=America/New_York:20230628T090000
DTEND;TZID=America/New_York:20230628T120000
DTSTAMP:20260421T134958
CREATED:20221215T035732Z
LAST-MODIFIED:20230226T022352Z
UID:10000146-1687942800-1687953600@districtwritersacademy.com
SUMMARY:Jr. Story Writers Camp (Rising 7-9 Graders)
DESCRIPTION:$520\nJune 26- June 30 — 9 a.m.-12 p.m. \nLEARN MORE
URL:https://districtwritersacademy.com/course/jr-story-writers-camp-rising-7-9-graders/2023-06-28/
LOCATION:Hera Hub\, 5028 Wisconsin Avenue NW\, Suite #100\, Washington\, DC\, 20016\, United States
CATEGORIES:summer camps
ATTACH;FMTTYPE=image/jpeg:https://districtwritersacademy.com/wp-content/uploads/teenyouth2.jpg
ORGANIZER;CN="Suzanne Zweizig":MAILTO:info@districtwritersacademy.com
END:VEVENT
BEGIN:VEVENT
DTSTART;TZID=America/New_York:20230627T090000
DTEND;TZID=America/New_York:20230627T120000
DTSTAMP:20260421T134958
CREATED:20221215T035732Z
LAST-MODIFIED:20230226T022352Z
UID:10000145-1687856400-1687867200@districtwritersacademy.com
SUMMARY:Jr. Story Writers Camp (Rising 7-9 Graders)
DESCRIPTION:$520\nJune 26- June 30 — 9 a.m.-12 p.m. \nLEARN MORE
URL:https://districtwritersacademy.com/course/jr-story-writers-camp-rising-7-9-graders/2023-06-27/
LOCATION:Hera Hub\, 5028 Wisconsin Avenue NW\, Suite #100\, Washington\, DC\, 20016\, United States
CATEGORIES:summer camps
ATTACH;FMTTYPE=image/jpeg:https://districtwritersacademy.com/wp-content/uploads/teenyouth2.jpg
ORGANIZER;CN="Suzanne Zweizig":MAILTO:info@districtwritersacademy.com
END:VEVENT
BEGIN:VEVENT
DTSTART;TZID=America/New_York:20230626T090000
DTEND;TZID=America/New_York:20230626T120000
DTSTAMP:20260421T134958
CREATED:20221215T035732Z
LAST-MODIFIED:20230226T022352Z
UID:10000144-1687770000-1687780800@districtwritersacademy.com
SUMMARY:Jr. Story Writers Camp (Rising 7-9 Graders)
DESCRIPTION:$520\nJune 26- June 30 — 9 a.m.-12 p.m. \nLEARN MORE
URL:https://districtwritersacademy.com/course/jr-story-writers-camp-rising-7-9-graders/2023-06-26/
LOCATION:Hera Hub\, 5028 Wisconsin Avenue NW\, Suite #100\, Washington\, DC\, 20016\, United States
CATEGORIES:summer camps
ATTACH;FMTTYPE=image/jpeg:https://districtwritersacademy.com/wp-content/uploads/teenyouth2.jpg
ORGANIZER;CN="Suzanne Zweizig":MAILTO:info@districtwritersacademy.com
END:VEVENT
BEGIN:VEVENT
DTSTART;TZID=America/New_York:20221230T140000
DTEND;TZID=America/New_York:20221230T170000
DTSTAMP:20260421T134958
CREATED:20220929T034855Z
LAST-MODIFIED:20221122T032756Z
UID:10000027-1672408800-1672419600@districtwritersacademy.com
SUMMARY:Fundamentals of Academic Writing
DESCRIPTION:$520\nSession I–December Break Session)- Monday Dec 26-Friday Dec 30\, 2-5 p.m.  \nIN PERSON \nAPPLY NOW
URL:https://districtwritersacademy.com/course/fundamentals-of-academic-writing-2/2022-12-30/
CATEGORIES:teen/youth classes
ATTACH;FMTTYPE=image/jpeg:https://districtwritersacademy.com/wp-content/uploads/teenyouthpic2.jpg
ORGANIZER;CN="Suzanne Zweizig":MAILTO:info@districtwritersacademy.com
END:VEVENT
BEGIN:VEVENT
DTSTART;TZID=America/New_York:20221229T140000
DTEND;TZID=America/New_York:20221229T170000
DTSTAMP:20260421T134958
CREATED:20220929T034855Z
LAST-MODIFIED:20221122T032756Z
UID:10000026-1672322400-1672333200@districtwritersacademy.com
SUMMARY:Fundamentals of Academic Writing
DESCRIPTION:$520\nSession I–December Break Session)- Monday Dec 26-Friday Dec 30\, 2-5 p.m.  \nIN PERSON \nAPPLY NOW
URL:https://districtwritersacademy.com/course/fundamentals-of-academic-writing-2/2022-12-29/
CATEGORIES:teen/youth classes
ATTACH;FMTTYPE=image/jpeg:https://districtwritersacademy.com/wp-content/uploads/teenyouthpic2.jpg
ORGANIZER;CN="Suzanne Zweizig":MAILTO:info@districtwritersacademy.com
END:VEVENT
BEGIN:VEVENT
DTSTART;TZID=America/New_York:20221228T140000
DTEND;TZID=America/New_York:20221228T170000
DTSTAMP:20260421T134958
CREATED:20220929T034855Z
LAST-MODIFIED:20221122T032756Z
UID:10000025-1672236000-1672246800@districtwritersacademy.com
SUMMARY:Fundamentals of Academic Writing
DESCRIPTION:$520\nSession I–December Break Session)- Monday Dec 26-Friday Dec 30\, 2-5 p.m.  \nIN PERSON \nAPPLY NOW
URL:https://districtwritersacademy.com/course/fundamentals-of-academic-writing-2/2022-12-28/
CATEGORIES:teen/youth classes
ATTACH;FMTTYPE=image/jpeg:https://districtwritersacademy.com/wp-content/uploads/teenyouthpic2.jpg
ORGANIZER;CN="Suzanne Zweizig":MAILTO:info@districtwritersacademy.com
END:VEVENT
BEGIN:VEVENT
DTSTART;TZID=America/New_York:20221227T140000
DTEND;TZID=America/New_York:20221227T170000
DTSTAMP:20260421T134958
CREATED:20220929T034855Z
LAST-MODIFIED:20221122T032756Z
UID:10000024-1672149600-1672160400@districtwritersacademy.com
SUMMARY:Fundamentals of Academic Writing
DESCRIPTION:$520\nSession I–December Break Session)- Monday Dec 26-Friday Dec 30\, 2-5 p.m.  \nIN PERSON \nAPPLY NOW
URL:https://districtwritersacademy.com/course/fundamentals-of-academic-writing-2/2022-12-27/
CATEGORIES:teen/youth classes
ATTACH;FMTTYPE=image/jpeg:https://districtwritersacademy.com/wp-content/uploads/teenyouthpic2.jpg
ORGANIZER;CN="Suzanne Zweizig":MAILTO:info@districtwritersacademy.com
END:VEVENT
BEGIN:VEVENT
DTSTART;TZID=America/New_York:20221226T140000
DTEND;TZID=America/New_York:20221226T170000
DTSTAMP:20260421T134958
CREATED:20220929T034855Z
LAST-MODIFIED:20221122T032756Z
UID:10000022-1672063200-1672074000@districtwritersacademy.com
SUMMARY:Fundamentals of Academic Writing
DESCRIPTION:$520\nSession I–December Break Session)- Monday Dec 26-Friday Dec 30\, 2-5 p.m.  \nIN PERSON \nAPPLY NOW
URL:https://districtwritersacademy.com/course/fundamentals-of-academic-writing-2/2022-12-26/
CATEGORIES:teen/youth classes
ATTACH;FMTTYPE=image/jpeg:https://districtwritersacademy.com/wp-content/uploads/teenyouthpic2.jpg
ORGANIZER;CN="Suzanne Zweizig":MAILTO:info@districtwritersacademy.com
END:VEVENT
BEGIN:VEVENT
DTSTART;TZID=America/New_York:20221205T160000
DTEND;TZID=America/New_York:20221205T170000
DTSTAMP:20260421T134958
CREATED:20220929T034738Z
LAST-MODIFIED:20220930T034637Z
UID:10000036-1670256000-1670259600@districtwritersacademy.com
SUMMARY:Grammar Groundwork
DESCRIPTION:$190\nSession I- Mondays Nov 7-Dec 5 (Five Weeks) – 4-5 p.m. \nAPPLY NOW
URL:https://districtwritersacademy.com/course/grammar-groundwork/2022-12-05/
CATEGORIES:teen/youth classes
ATTACH;FMTTYPE=image/jpeg:https://districtwritersacademy.com/wp-content/uploads/2021/04/teenyouth.jpg
ORGANIZER;CN="Suzanne Zweizig":MAILTO:info@districtwritersacademy.com
END:VEVENT
END:VCALENDAR